
BEGIN:VCALENDAR

VERSION:2.0

PRODID:vsa-calendar

BEGIN:VEVENT

DTSTART:20210225T00

DTEND:20210225T00

SUMMARY:AUDITIONS TREMPLIN CLASSEUROCK 2021 
LOCATION:Akwaba 500 Chemin des Matouses, 84470 Châteauneuf-de-Gadagne, France

URL;VALUE=URI:http://akwaba.coop/agenda-akwaba---auditions-tremplin-classeurock-2021------fswlbigwsjw.html

DTSTAMP:20260421T214637
UID:69e7d41df2fbd
END:VEVENT

END:VCALENDAR
