
BEGIN:VCALENDAR

VERSION:2.0

PRODID:vsa-calendar

BEGIN:VEVENT

DTSTART:20220811T180000

DTEND:20220811T230000

SUMMARY:RIOT PATA NEGRA + DOCTOR BEATS
LOCATION:Akwaba 500 Chemin des Matouses, 84470 Châteauneuf-de-Gadagne, France

URL;VALUE=URI:http://akwaba.coop/agenda-akwaba---riot-pata-negra---1800---6k0g60upwzwz.html

DTSTAMP:20260423T012143
UID:69e95807a6f41
END:VEVENT

END:VCALENDAR
