
BEGIN:VCALENDAR

VERSION:2.0

PRODID:vsa-calendar

BEGIN:VEVENT

DTSTART:20211105T00

DTEND:20211105T00

SUMMARY:LA SEANCE CINE DE FILM&NOUS 
LOCATION:Akwaba 500 Chemin des Matouses, 84470 Châteauneuf-de-Gadagne, France

URL;VALUE=URI:http://akwaba.coop/agenda-akwaba---la-seance-cine-de-film-nous------6f2x2d6u8bdn.html

DTSTAMP:20260423T110539
UID:69e9e0e3b04fd
END:VEVENT

END:VCALENDAR
