
BEGIN:VCALENDAR

VERSION:2.0

PRODID:vsa-calendar

BEGIN:VEVENT

DTSTART:20210614T00

DTEND:20210730T00

SUMMARY:RUSS 
LOCATION:Akwaba 500 Chemin des Matouses, 84470 Châteauneuf-de-Gadagne, France

URL;VALUE=URI:http://akwaba.coop/agenda-akwaba---russ------57bvz7ngax0k.html

DTSTAMP:20260423T014433
UID:69e95d6113ad2
END:VEVENT

END:VCALENDAR
